BEGIN:VCALENDAR
METHOD:PUBLISH
PRODID:-//Weblication CMS
VERSION:2.0
BEGIN:VEVENT
SUMMARY:Ausflug
DTSTART;VALUE=DATE:20251018
DTEND;VALUE=DATE:20251019
DESCRIPTION:
LOCATION:
UID:https://musikkapelle-hofstetten.de/musikkapelle-hofstetten/termine/termine/Ausflug.php
URL:https://musikkapelle-hofstetten.de/musikkapelle-hofstetten/termine/termine/Ausflug.php
END:VEVENT
END:VCALENDAR