BEGIN:VCALENDAR
METHOD:PUBLISH
PRODID:-//Weblication CMS
VERSION:2.0
BEGIN:VEVENT
SUMMARY:Beisetzung
DTSTART:20260122T143000
DTEND:20260122T143000
DESCRIPTION:Beisetzung unseres Ehrenmitgliedes Xaver Neumaier
LOCATION:St. Erhard Kirche
UID:https://musikkapelle-hofstetten.de/musikkapelle-hofstetten/termine/termine/Beisetzung.php
URL:https://musikkapelle-hofstetten.de/musikkapelle-hofstetten/termine/termine/Beisetzung.php
END:VEVENT
END:VCALENDAR